BEGIN:VCALENDAR
VERSION:2.0
PRODID:-//DJ Kuno - ECPv6.1.3//NONSGML v1.0//EN
CALSCALE:GREGORIAN
METHOD:PUBLISH
X-WR-CALNAME:DJ Kuno
X-ORIGINAL-URL:https://kuno.ch
X-WR-CALDESC:Veranstaltungen für DJ Kuno
REFRESH-INTERVAL;VALUE=DURATION:PT1H
X-Robots-Tag:noindex
X-PUBLISHED-TTL:PT1H
BEGIN:VTIMEZONE
TZID:Europe/Zurich
BEGIN:DAYLIGHT
TZOFFSETFROM:+0100
TZOFFSETTO:+0200
TZNAME:CEST
DTSTART:20240331T010000
END:DAYLIGHT
BEGIN:STANDARD
TZOFFSETFROM:+0200
TZOFFSETTO:+0100
TZNAME:CET
DTSTART:20241027T010000
END:STANDARD
END:VTIMEZONE
BEGIN:VEVENT
DTSTART;TZID=Europe/Zurich:20240310T100000
DTEND;TZID=Europe/Zurich:20240310T160000
DTSTAMP:20260424T164544
CREATED:20240108T182252Z
LAST-MODIFIED:20240108T182252Z
UID:546-1710064800-1710086400@kuno.ch
SUMMARY:Engadin Skimarathon 2024
DESCRIPTION:Anlässlich des 54. Engadin Skimarathon am 10. März 2024 werde ich in Pontresina als DJ auf dem Festgelände für die musikalische Partystimmung sorgen. Hier in Pontresina ist nämlich der Zielbereich des Halbmarathons und der Durchlauf für die gesamte Marathonstrecke.
URL:https://kuno.ch/event/engadin-skimarathon-2024/
LOCATION:Pontresina\, Via Maistra 178\, Plazza Bellavita\, Pontresina\, 7504
CATEGORIES:Öffentlicher Anlass
ATTACH;FMTTYPE=image/jpeg:https://kuno.ch/wp-content/uploads/2024/01/414455874_663653345977479_791818695597781872_n.jpg
END:VEVENT
END:VCALENDAR