BEGIN:VCALENDAR
VERSION:2.0
PRODID:-//DJ Kuno - ECPv6.1.3//NONSGML v1.0//EN
CALSCALE:GREGORIAN
METHOD:PUBLISH
X-WR-CALNAME:DJ Kuno
X-ORIGINAL-URL:https://kuno.ch
X-WR-CALDESC:Veranstaltungen für DJ Kuno
REFRESH-INTERVAL;VALUE=DURATION:PT1H
X-Robots-Tag:noindex
X-PUBLISHED-TTL:PT1H
BEGIN:VTIMEZONE
TZID:Europe/Zurich
BEGIN:DAYLIGHT
TZOFFSETFROM:+0100
TZOFFSETTO:+0200
TZNAME:CEST
DTSTART:20240331T010000
END:DAYLIGHT
BEGIN:STANDARD
TZOFFSETFROM:+0200
TZOFFSETTO:+0100
TZNAME:CET
DTSTART:20241027T010000
END:STANDARD
END:VTIMEZONE
BEGIN:VEVENT
DTSTART;TZID=Europe/Zurich:20240323T190000
DTEND;TZID=Europe/Zurich:20240324T020000
DTSTAMP:20260424T164544
CREATED:20240525T132737Z
LAST-MODIFIED:20251025T090156Z
UID:614-1711220400-1711245600@kuno.ch
SUMMARY:Privatparty Musikcontainer Uster
DESCRIPTION:Privatanlass: Geburtstagsfest im Musikcontainer Uster mit DJ Kuno.
URL:https://kuno.ch/event/privatparty-musikcontainer-uster/
LOCATION:Musikcontainer Uster\, Aslystrasse 10\, Uster\, 8610\, Schweiz
CATEGORIES:Privater Anlass
ATTACH;FMTTYPE=image/jpeg:https://kuno.ch/wp-content/uploads/2024/05/Musikcontainer-Uster.jpg
END:VEVENT
END:VCALENDAR