BEGIN:VCALENDAR
VERSION:2.0
PRODID:-//DJ Kuno - ECPv6.1.3//NONSGML v1.0//EN
CALSCALE:GREGORIAN
METHOD:PUBLISH
X-WR-CALNAME:DJ Kuno
X-ORIGINAL-URL:https://kuno.ch
X-WR-CALDESC:Veranstaltungen für DJ Kuno
REFRESH-INTERVAL;VALUE=DURATION:PT1H
X-Robots-Tag:noindex
X-PUBLISHED-TTL:PT1H
BEGIN:VTIMEZONE
TZID:Europe/Zurich
BEGIN:DAYLIGHT
TZOFFSETFROM:+0100
TZOFFSETTO:+0200
TZNAME:CEST
DTSTART:20240331T010000
END:DAYLIGHT
BEGIN:STANDARD
TZOFFSETFROM:+0200
TZOFFSETTO:+0100
TZNAME:CET
DTSTART:20241027T010000
END:STANDARD
BEGIN:DAYLIGHT
TZOFFSETFROM:+0100
TZOFFSETTO:+0200
TZNAME:CEST
DTSTART:20250330T010000
END:DAYLIGHT
BEGIN:STANDARD
TZOFFSETFROM:+0200
TZOFFSETTO:+0100
TZNAME:CET
DTSTART:20251026T010000
END:STANDARD
BEGIN:DAYLIGHT
TZOFFSETFROM:+0100
TZOFFSETTO:+0200
TZNAME:CEST
DTSTART:20260329T010000
END:DAYLIGHT
BEGIN:STANDARD
TZOFFSETFROM:+0200
TZOFFSETTO:+0100
TZNAME:CET
DTSTART:20261025T010000
END:STANDARD
END:VTIMEZONE
BEGIN:VEVENT
DTSTART;TZID=Europe/Zurich:20260418T160000
DTEND;TZID=Europe/Zurich:20260418T190000
DTSTAMP:20260421T133151
CREATED:20251228T100152Z
LAST-MODIFIED:20260417T133257Z
UID:881-1776528000-1776538800@kuno.ch
SUMMARY:Tea Time Swing\, 18.04.2026
DESCRIPTION:Tea Time Swing am Samstag mit Swing\, Jazz und R&B von DJ Kuno \nin der Bananenreiferei Zürich für Lindy Hop\, Balboa und Shag \nDJ Kuno (16.00 – 17.30 Uhr) und DJ Rahel (17.30 –19.00 Uhr)
URL:https://kuno.ch/event/tea-time-swing-18-04-2026/
LOCATION:Bananenreiferei\, Pfingstweidstrasse 101\, Zürich\, Zürich\, 8005\, Schweiz
CATEGORIES:Öffentlicher Anlass
ATTACH;FMTTYPE=image/jpeg:https://kuno.ch/wp-content/uploads/2023/08/Teatimeswing-logo.jpeg
ORGANIZER;CN="Tea%20Time%20Swing":MAILTO:info@teatimeswing-zuerich.ch
END:VEVENT
BEGIN:VEVENT
DTSTART;TZID=Europe/Zurich:20260221T193000
DTEND;TZID=Europe/Zurich:20260221T233000
DTSTAMP:20260421T133151
CREATED:20260216T145950Z
LAST-MODIFIED:20260218T131317Z
UID:893-1771702200-1771716600@kuno.ch
SUMMARY:Downtown Social\, 21.02.2026
DESCRIPTION:Swingender Dance-Sound für Lindy Hop\, Balboa und Shag mit DJ Kuno \n21. Februar 2026\nvon 19.30 – 21.30 Uhr \n(DJ Stefan von 21.30 – 23:30 Uhr) \nDowntownswing\, Hohlstrasse 86a\, 8004 Zürich
URL:https://kuno.ch/event/downtown-social-21-02-2026/
LOCATION:Downtownswing\, Hohlstrasse 86a\, Zürich\, 8004\, Schweiz
CATEGORIES:Öffentlicher Anlass
ATTACH;FMTTYPE=image/jpeg:https://kuno.ch/wp-content/uploads/2026/02/638074784_1479979174128244_9005476137632586405_n.jpg
END:VEVENT
BEGIN:VEVENT
DTSTART;TZID=Europe/Zurich:20251231T200000
DTEND;TZID=Europe/Zurich:20260101T020000
DTSTAMP:20260421T133151
CREATED:20250426T075721Z
LAST-MODIFIED:20250426T075820Z
UID:778-1767211200-1767232800@kuno.ch
SUMMARY:Silvesterparty 2025 Hotel Walther Pontresina
DESCRIPTION:31.12.2025: Grosse Silvesterparty zum Jahreswechsel im Hotel Walther Pontresina mit DJ Kuno.
URL:https://kuno.ch/event/silvesterparty-2025-hotel-walther-pontresina/
LOCATION:Hotel Walther Pontresina\, Via Maistra 215\, Pontresina\, Graubünden\, 7504\, Schweiz
CATEGORIES:Öffentlicher Anlass
ATTACH;FMTTYPE=image/jpeg:https://kuno.ch/wp-content/uploads/2023/11/Hotel-Walther-Winter.jpg
END:VEVENT
BEGIN:VEVENT
DTSTART;TZID=Europe/Zurich:20251213T180000
DTEND;TZID=Europe/Zurich:20251214T003000
DTSTAMP:20260421T133151
CREATED:20251028T073846Z
LAST-MODIFIED:20251028T074024Z
UID:853-1765648800-1765672200@kuno.ch
SUMMARY:Privatparty Zürichberg
DESCRIPTION:Privatanlass: Geburtstagsparty am Zürichberg mit DJ Kuno
URL:https://kuno.ch/event/privatparty-zuerichberg/
CATEGORIES:Privater Anlass
ATTACH;FMTTYPE=image/jpeg:https://kuno.ch/wp-content/uploads/2025/08/greyson-joralemon-ORSGQc-2Ef8-unsplash-scaled.jpg
END:VEVENT
BEGIN:VEVENT
DTSTART;TZID=Europe/Zurich:20251206T160000
DTEND;TZID=Europe/Zurich:20251206T190000
DTSTAMP:20260421T133151
CREATED:20250916T122145Z
LAST-MODIFIED:20251205T082953Z
UID:820-1765036800-1765047600@kuno.ch
SUMMARY:Tea Time Swing\, 06.12.2025
DESCRIPTION:Tea Time Swing in der Bananenreiferei Zürich für Lindy Hop\, Balboa und Shag \nNeu findet der Tea Time Swing am Samstag statt! \nSwing\, Jazz und R&B von DJ Da Vinci (16.00 – 17.30 Uhr) und DJ Kuno (17.30 –19.00 Uhr)
URL:https://kuno.ch/event/tea-time-swing-06-12-2025/
LOCATION:Bananenreiferei\, Pfingstweidstrasse 101\, Zürich\, Zürich\, 8005\, Schweiz
CATEGORIES:Öffentlicher Anlass
ATTACH;FMTTYPE=image/jpeg:https://kuno.ch/wp-content/uploads/2025/09/20251206-TeaTimeSwing.jpg
ORGANIZER;CN="Tea%20Time%20Swing":MAILTO:info@teatimeswing-zuerich.ch
END:VEVENT
BEGIN:VEVENT
DTSTART;VALUE=DATE:20251201
DTEND;VALUE=DATE:20251225
DTSTAMP:20260421T133151
CREATED:20251201T075251Z
LAST-MODIFIED:20251202T075907Z
UID:874-1764547200-1766620799@kuno.ch
SUMMARY:Musikalischer Adventskalender 2025
DESCRIPTION:Vom 1. – 24. Dezember 2025 gibt’s einen täglichen Musikgruss aus verschiedenen Stilrichtungen: circa 20 Minuten Sound – mal länger\, mal noch länger – mal zum Tanzen\, mal zum Entspannen\, aber immer abwechslungsreich. \n> Musikalischer Adventskalender 2025
URL:https://kuno.ch/event/musikalischer-adventskalender-2025/
CATEGORIES:Adventskalender
ATTACH;FMTTYPE=image/jpeg:https://kuno.ch/wp-content/uploads/2025/12/AdobeStock_Discokugel-Weihnachtsmuetze-li-gespiegelt-scaled.jpg
END:VEVENT
BEGIN:VEVENT
DTSTART;TZID=Europe/Zurich:20251101T170000
DTEND;TZID=Europe/Zurich:20251102T003000
DTSTAMP:20260421T133151
CREATED:20251025T085650Z
LAST-MODIFIED:20251102T133738Z
UID:849-1762016400-1762043400@kuno.ch
SUMMARY:Privatparty Clubhaus Pfannenstiel
DESCRIPTION:Privatanlass: Geburtstagsparty im Clubhaus Pferdesportanlage Pfannenstiel mit DJ Kuno
URL:https://kuno.ch/event/privatparty-pfannenstil/
LOCATION:Clubhaus Pfannenstiel\, Alter Herrenweg 10\, Meilen\, 8706\, Schweiz
CATEGORIES:Privater Anlass
ATTACH;FMTTYPE=image/jpeg:https://kuno.ch/wp-content/uploads/2025/10/Clubhaus-Pfannenstiel.jpg
END:VEVENT
BEGIN:VEVENT
DTSTART;TZID=Europe/Zurich:20250920T180000
DTEND;TZID=Europe/Zurich:20250921T013000
DTSTAMP:20260421T133151
CREATED:20250901T111129Z
LAST-MODIFIED:20251025T091307Z
UID:814-1758391200-1758418200@kuno.ch
SUMMARY:Privatparty Fuhrhalterei Uetikon
DESCRIPTION:Privatanlass: Geburtstagsparty in der Fuhrhalterei in Uetikon bei Meilen mit DJ Kuno
URL:https://kuno.ch/event/privatparty-uetikon/
LOCATION:Fuhrhalterei Uetikon\, Seestrasse 1037\, Meilen\, Zürich\, 8706\, Schweiz
CATEGORIES:Privater Anlass
ATTACH;FMTTYPE=image/jpeg:https://kuno.ch/wp-content/uploads/2025/09/Fuhrhalterei-Uetikon2.jpg
END:VEVENT
BEGIN:VEVENT
DTSTART;TZID=Europe/Zurich:20250917T200000
DTEND;TZID=Europe/Zurich:20250917T230000
DTSTAMP:20260421T133151
CREATED:20250824T150656Z
LAST-MODIFIED:20251025T091249Z
UID:807-1758139200-1758150000@kuno.ch
SUMMARY:Barfussbar am Mittwoch\, September 2025
DESCRIPTION:Barabend in der Barfussbar mit Sounds von DJ Kuno\nMittwoch\, 17. September 2025 \nvon 20:00 – 23:00 (Barbetrieb bis 24:00) \nLounge\, Chill-out\, groovy Sounds – enjoy! \nDer Event findet bei jedem Wetter statt – bei Regen mit Zelt.
URL:https://kuno.ch/event/barfussbar-am-mitwoch-september-2025/
LOCATION:Barfussbar\, Stadthausquai 12\, 8001 Zürich\, 8001\, Schweiz
CATEGORIES:Öffentlicher Anlass
ATTACH;FMTTYPE=image/webp:https://kuno.ch/wp-content/uploads/2025/08/Barfussbar-zuerich-voll-mit-menschen-direkt-am-wasser.jpeg.webp
END:VEVENT
BEGIN:VEVENT
DTSTART;TZID=Europe/Zurich:20250830T170000
DTEND;TZID=Europe/Zurich:20250831T020000
DTSTAMP:20260421T133151
CREATED:20250816T115309Z
LAST-MODIFIED:20251025T091327Z
UID:797-1756573200-1756605600@kuno.ch
SUMMARY:Privatparty Feldmeilen
DESCRIPTION:Privatanlass: Sommerparty in Feldmeilen mit DJ Kuno
URL:https://kuno.ch/event/privatparty-feldmeilen/
CATEGORIES:Privater Anlass
ATTACH;FMTTYPE=image/jpeg:https://kuno.ch/wp-content/uploads/2025/08/greyson-joralemon-ORSGQc-2Ef8-unsplash-scaled.jpg
END:VEVENT
BEGIN:VEVENT
DTSTART;TZID=Europe/Zurich:20250823T213000
DTEND;TZID=Europe/Zurich:20250824T010000
DTSTAMP:20260421T133151
CREATED:20250816T114817Z
LAST-MODIFIED:20251025T091212Z
UID:794-1755984600-1755997200@kuno.ch
SUMMARY:Privatparty Quartiertreff Hirslanden
DESCRIPTION:Privatanlass: Geburtstagsfest im Quartiertreff Hirslanden mit DJ Kuno.
URL:https://kuno.ch/event/privatparty-quartiertreff-hirslanden/
LOCATION:Quartiertreff Hirslanden\, Forchstrasse 248\, Zürich\, Zürich\, 8032\, Schweiz
CATEGORIES:Privater Anlass
ATTACH;FMTTYPE=image/jpeg:https://kuno.ch/wp-content/uploads/2025/08/Quartiertreff-Hirslanden-Burgwies.jpg
END:VEVENT
BEGIN:VEVENT
DTSTART;TZID=Europe/Zurich:20250813T180000
DTEND;TZID=Europe/Zurich:20250813T230000
DTSTAMP:20260421T133151
CREATED:20250813T160012Z
LAST-MODIFIED:20251025T085926Z
UID:790-1755108000-1755126000@kuno.ch
SUMMARY:Privatparty im Seeclub Zürich
DESCRIPTION:Privatanlass: Geburtstagsfest im Seeclub Zürich mit DJ Kuno.
URL:https://kuno.ch/event/privatparty-im-seeclub-zuerich/
LOCATION:Seeclub Zürich\, Mythenquai 75\, Zürich\, Zürich\, 8002\, Schweiz
CATEGORIES:Privater Anlass
ATTACH;FMTTYPE=image/jpeg:https://kuno.ch/wp-content/uploads/2025/08/IMG_9010-scaled.jpeg
END:VEVENT
BEGIN:VEVENT
DTSTART;TZID=Europe/Zurich:20250810T200000
DTEND;TZID=Europe/Zurich:20250810T230000
DTSTAMP:20260421T133151
CREATED:20250327T165948Z
LAST-MODIFIED:20250327T165956Z
UID:772-1754856000-1754866800@kuno.ch
SUMMARY:Barfussbar\, August 2025
DESCRIPTION:Tanz am Sonntag in der Barfussbar mit DJ Kuno\n10. August 2025 \nvon 20:00 – 23:00 (Barbetrieb bis 24:00) \nDisco & Dance\, Funky Grooves\, Electro-Swing\, R’n’B \nDer Event findet bei jedem Wetter statt – bei Regen mit Zelt.
URL:https://kuno.ch/event/barfussbar-august-2025/
LOCATION:Barfussbar\, Stadthausquai 12\, 8001 Zürich\, 8001\, Schweiz
CATEGORIES:Öffentlicher Anlass
ATTACH;FMTTYPE=image/jpeg:https://kuno.ch/wp-content/uploads/2024/07/Barfussbar-Zuerich-02.jpg
END:VEVENT
BEGIN:VEVENT
DTSTART;TZID=Europe/Zurich:20250628T210000
DTEND;TZID=Europe/Zurich:20250629T010000
DTSTAMP:20260421T133151
CREATED:20250628T190037Z
LAST-MODIFIED:20251025T091142Z
UID:785-1751144400-1751158800@kuno.ch
SUMMARY:Privatparty im Ruderclub Thalwil
DESCRIPTION:Privatanlass: Geburtstagsfest im Ruderclub Thalwil mit DJ Kuno.
URL:https://kuno.ch/event/privatparty-im-ruderclub-thalwil-2/
LOCATION:Ruderclub Thalwil\, Seestrasse 178\, Thalwil\, 8800\, Schweiz
CATEGORIES:Privater Anlass
ATTACH;FMTTYPE=image/jpeg:https://kuno.ch/wp-content/uploads/2025/06/D0161CE5-5AA5-4AEF-B36F-6021B9BADEA1-scaled.jpg
END:VEVENT
BEGIN:VEVENT
DTSTART;TZID=Europe/Zurich:20250608T200000
DTEND;TZID=Europe/Zurich:20250608T230000
DTSTAMP:20260421T133151
CREATED:20250327T165802Z
LAST-MODIFIED:20250327T165802Z
UID:770-1749412800-1749423600@kuno.ch
SUMMARY:Barfussbar\, Juni 2025
DESCRIPTION:Tanz am Sonntag in der Barfussbar mit DJ Kuno\n08. Juni 2025 \nvon 20:00 – 23:00 (Barbetrieb bis 24:00) \nDisco & Dance\, Funky Grooves\, Electro-Swing\, R’n’B \nDer Event findet bei jedem Wetter statt – bei Regen mit Zelt.
URL:https://kuno.ch/event/barfussbar-juni-2025/
LOCATION:Barfussbar\, Stadthausquai 12\, 8001 Zürich\, 8001\, Schweiz
CATEGORIES:Öffentlicher Anlass
ATTACH;FMTTYPE=image/jpeg:https://kuno.ch/wp-content/uploads/2024/07/Barfussbar-Zuerich-02.jpg
END:VEVENT
BEGIN:VEVENT
DTSTART;TZID=Europe/Zurich:20250517T203000
DTEND;TZID=Europe/Zurich:20250518T010000
DTSTAMP:20260421T133151
CREATED:20250426T074927Z
LAST-MODIFIED:20250515T070723Z
UID:775-1747513800-1747530000@kuno.ch
SUMMARY:Downtown Social – Zürich tanzt 2025 Special
DESCRIPTION:Lindy Hop – Balboa – Shag – Solo Jazz \nvon 20.30 – 01.00 Uhr\nBis ca. 22:30 Uhr mit DJ Kuno\, danach übernimmt DJ Stefan. \nDowntownswing\, Hohlstrasse 86a\, 8004 Zürich
URL:https://kuno.ch/event/downtown-social-zuerich-tanzt-2025-special/
LOCATION:Downtownswing\, Hohlstrasse 86a\, Zürich\, 8004\, Schweiz
CATEGORIES:Öffentlicher Anlass
ATTACH;FMTTYPE=image/jpeg:https://kuno.ch/wp-content/uploads/2025/04/20250517-Downtownsocial.jpg
END:VEVENT
BEGIN:VEVENT
DTSTART;TZID=Europe/Zurich:20250427T200000
DTEND;TZID=Europe/Zurich:20250427T230000
DTSTAMP:20260421T133151
CREATED:20250327T165441Z
LAST-MODIFIED:20250327T165805Z
UID:768-1745784000-1745794800@kuno.ch
SUMMARY:Barfussbar\, April 2025
DESCRIPTION:Tanz am Sonntag in der Barfussbar mit DJ Kuno\n27. April 2025 \nvon 20:00 – 23:00 (Barbetrieb bis 24:00) \nDisco & Dance\, Funky Grooves\, Electro-Swing\, R’n’B \nDer Event findet bei jedem Wetter statt – bei Regen mit Zelt.
URL:https://kuno.ch/event/barfussbar-april-2025/
LOCATION:Barfussbar\, Stadthausquai 12\, 8001 Zürich\, 8001\, Schweiz
CATEGORIES:Öffentlicher Anlass
ATTACH;FMTTYPE=image/jpeg:https://kuno.ch/wp-content/uploads/2024/07/Barfussbar-Zuerich-02.jpg
END:VEVENT
BEGIN:VEVENT
DTSTART;TZID=Europe/Zurich:20250308T193000
DTEND;TZID=Europe/Zurich:20250308T233000
DTSTAMP:20260421T133151
CREATED:20250128T193510Z
LAST-MODIFIED:20260216T150029Z
UID:746-1741462200-1741476600@kuno.ch
SUMMARY:Downtown Social\, 08.03.2025
DESCRIPTION:Lindy Hop n‘ Swing mit DJ Kuno am 08. März 2025 \nvon 19.30 – 21.30 \n(Danach übernimmt ein zweiter DJ bis 23:30.) \nDowntownswing\, Hohlstrasse 86a\, 8004 Zürich
URL:https://kuno.ch/event/downtownsocial-08-03-2025/
LOCATION:Downtownswing\, Hohlstrasse 86a\, Zürich\, 8004\, Schweiz
CATEGORIES:Öffentlicher Anlass
ATTACH;FMTTYPE=image/jpeg:https://kuno.ch/wp-content/uploads/2024/03/Downtownsocial-ohneText.jpg
END:VEVENT
BEGIN:VEVENT
DTSTART;TZID=Europe/Zurich:20250214T203000
DTEND;TZID=Europe/Zurich:20250215T003000
DTSTAMP:20260421T133151
CREATED:20250105T185840Z
LAST-MODIFIED:20251025T090650Z
UID:738-1739565000-1739579400@kuno.ch
SUMMARY:Viva la Via in Pontresina\, Februar 2025
DESCRIPTION:Im Rahmen der Nachtedition von «Viva la Via» in Pontresina lege ich auf in der O-Bar im eleganten Hotel Rosatsch\, Pontresina \nDJ Kuno\nzu Gast in der O-Bar im Hotel Rosatsch\, Pontresina\nDisco — R’n’B — Funky Grooves – Dance – Electro Swing \nViva la Via Nachtedition\nHotel Rosatsch\nVia Maistra 157\n7504 Pontresina
URL:https://kuno.ch/event/viva-la-via-im-hotel-rosatsch-februar-2025/
LOCATION:Hotel Rosatsch Pontresina\, Via Maistra 157\, 7504 Pontresina\, Graubünden\, 7504\, Schweiz
CATEGORIES:Öffentlicher Anlass
ATTACH;FMTTYPE=image/jpeg:https://kuno.ch/wp-content/uploads/2024/02/Viva-la-Via-Pontresina.jpg
END:VEVENT
BEGIN:VEVENT
DTSTART;TZID=Europe/Zurich:20250202T160000
DTEND;TZID=Europe/Zurich:20250202T190000
DTSTAMP:20260421T133151
CREATED:20241124T203030Z
LAST-MODIFIED:20251025T090017Z
UID:731-1738512000-1738522800@kuno.ch
SUMMARY:Tea Time Swing\, 02.02.2025
DESCRIPTION:Tea Time Swing in der Bananenreiferei Zürich für Lindy Hop\, Balboa und Shag mit \n\nDJ Phatt D von 16.00 – 17.30 Uhr\n\nund \n\nDJ Kuno von 17.30 –19.00 Uhr\n\nSound von Swing\, Jazz bis R&B
URL:https://kuno.ch/event/tea-time-swing-02-02-2025/
LOCATION:Bananenreiferei\, Pfingstweidstrasse 101\, Zürich\, Zürich\, 8005\, Schweiz
CATEGORIES:Öffentlicher Anlass
ATTACH;FMTTYPE=image/jpeg:https://kuno.ch/wp-content/uploads/2023/08/Teatimeswing-logo.jpeg
ORGANIZER;CN="Tea%20Time%20Swing":MAILTO:info@teatimeswing-zuerich.ch
END:VEVENT
BEGIN:VEVENT
DTSTART;TZID=Europe/Zurich:20241231T200000
DTEND;TZID=Europe/Zurich:20250101T020000
DTSTAMP:20260421T133151
CREATED:20240108T180016Z
LAST-MODIFIED:20240512T145703Z
UID:541-1735675200-1735696800@kuno.ch
SUMMARY:Silvesterparty 2024 Hotel Walther Pontresina
DESCRIPTION:31.12.2024: Grosse Silvesterparty zum Jahreswechsel im Hotel Walther Pontresina mit DJ Kuno.
URL:https://kuno.ch/event/silvesterparty-2024-hotel-walther-pontresina/
LOCATION:Hotel Walther Pontresina\, Via Maistra 215\, Pontresina\, Graubünden\, 7504\, Schweiz
CATEGORIES:Öffentlicher Anlass
ATTACH;FMTTYPE=image/jpeg:https://kuno.ch/wp-content/uploads/2023/11/Hotel-Walther-Winter.jpg
END:VEVENT
BEGIN:VEVENT
DTSTART;TZID=Europe/Zurich:20241217T203000
DTEND;TZID=Europe/Zurich:20241218T003000
DTSTAMP:20260421T133151
CREATED:20250106T184019Z
LAST-MODIFIED:20251025T091039Z
UID:740-1734467400-1734481800@kuno.ch
SUMMARY:Privatparty im Deutschen Seminar (Universität Zürich)
DESCRIPTION:Privatanlass: Party anlässlich der Verabschiedung eines Professors mit DJ Kuno.
URL:https://kuno.ch/event/privatparty-im-deutschen-seminar-universitaet-zuerich/
LOCATION:Universität Zürich\, Deutsches Seminar\, Schönberggasse 9\, Zürich\, Zürich\, 8001
CATEGORIES:Privater Anlass
ATTACH;FMTTYPE=image/jpeg:https://kuno.ch/wp-content/uploads/2025/01/Deutsches-Seminar-Uni-Zuerich.jpg
END:VEVENT
BEGIN:VEVENT
DTSTART;TZID=Europe/Zurich:20241013T160000
DTEND;TZID=Europe/Zurich:20241013T173000
DTSTAMP:20260421T133151
CREATED:20241005T161330Z
LAST-MODIFIED:20251025T090050Z
UID:724-1728835200-1728840600@kuno.ch
SUMMARY:Tea Time Swing\, Oktober 2024
DESCRIPTION:Lindy Hop und Balboa in der Bananenreiferei Zürich mit DJ Kuno von 16.00 – 17.30 Uhr. \nAnschliessend übernimmt ein zweiter DJ bis 19.00 Uhr.
URL:https://kuno.ch/event/tea-time-swing-oktober-2024/
LOCATION:Bananenreiferei\, Pfingstweidstrasse 101\, Zürich\, Zürich\, 8005\, Schweiz
CATEGORIES:Öffentlicher Anlass
ATTACH;FMTTYPE=image/jpeg:https://kuno.ch/wp-content/uploads/2023/08/Teatimeswing-logo.jpeg
ORGANIZER;CN="Tea%20Time%20Swing":MAILTO:info@teatimeswing-zuerich.ch
END:VEVENT
BEGIN:VEVENT
DTSTART;TZID=Europe/Zurich:20241012T193000
DTEND;TZID=Europe/Zurich:20241012T213000
DTSTAMP:20260421T133151
CREATED:20241005T160600Z
LAST-MODIFIED:20241006T070654Z
UID:721-1728761400-1728768600@kuno.ch
SUMMARY:Downtown Social\, Oktober 2024
DESCRIPTION:Lindy Hop n‘ Swing mit DJ Kuno \nvon 19.30 – 21.30 \n(Danach übernimmt ein zweiter DJ bis 23:30.) \nDowntownswing\, Hohlstrasse 86a\, 8004 Zürich
URL:https://kuno.ch/event/downtown-social-oktober-2024/
LOCATION:Downtownswing\, Hohlstrasse 86a\, Zürich\, 8004\, Schweiz
CATEGORIES:Öffentlicher Anlass
ATTACH;FMTTYPE=image/jpeg:https://kuno.ch/wp-content/uploads/2024/03/Downtownsocial-ohneText.jpg
END:VEVENT
BEGIN:VEVENT
DTSTART;TZID=Europe/Zurich:20240913T210000
DTEND;TZID=Europe/Zurich:20240914T003000
DTSTAMP:20260421T133151
CREATED:20240702T071845Z
LAST-MODIFIED:20251025T090110Z
UID:663-1726261200-1726273800@kuno.ch
SUMMARY:Privatparty im Seebad Enge
DESCRIPTION:Privatanlass: Geburtstagsfest im Seebad Enge mit DJ Kuno.
URL:https://kuno.ch/event/privatparty-im-seebad-enge/
LOCATION:Seebad Enge\, Mythenquai 9\, Zürich\, Zürich\, 8002\, Schweiz
CATEGORIES:Privater Anlass
ATTACH;FMTTYPE=image/jpeg:https://kuno.ch/wp-content/uploads/2024/07/Seebad-Enge.jpg
END:VEVENT
BEGIN:VEVENT
DTSTART;TZID=Europe/Zurich:20240908T200000
DTEND;TZID=Europe/Zurich:20240908T230000
DTSTAMP:20260421T133151
CREATED:20240303T134950Z
LAST-MODIFIED:20240702T153328Z
UID:580-1725825600-1725836400@kuno.ch
SUMMARY:Barfussbar\, September 2024
DESCRIPTION:Tanz am Sonntag in der Barfussbar mit DJ Kuno\nvon 20:00 – 23:00 (Barbetrieb bis 24:00) \nDisco & Dance\, Funky Grooves\, Electro-Swing\, R’n’B \nDer Event findet bei jedem Wetter statt – bei Regen mit Zelt.
URL:https://kuno.ch/event/barfussbar-mit-dj-kuno-september-2024/
LOCATION:Barfussbar\, Stadthausquai 12\, 8001 Zürich\, 8001\, Schweiz
CATEGORIES:Öffentlicher Anlass
ATTACH;FMTTYPE=image/jpeg:https://kuno.ch/wp-content/uploads/2023/04/Barfussbar-Zuerich.jpg
END:VEVENT
BEGIN:VEVENT
DTSTART;TZID=Europe/Zurich:20240804T200000
DTEND;TZID=Europe/Zurich:20240804T230000
DTSTAMP:20260421T133151
CREATED:20240303T134752Z
LAST-MODIFIED:20240702T153341Z
UID:578-1722801600-1722812400@kuno.ch
SUMMARY:Barfussbar\, August 2024
DESCRIPTION:Tanz am Sonntag in der Barfussbar mit DJ Kuno\nvon 20:00 – 23:00 (Barbetrieb bis 24:00) \nDisco & Dance\, Funky Grooves\, Electro-Swing\, R’n’B \nDer Event findet bei jedem Wetter statt – bei Regen mit Zelt.
URL:https://kuno.ch/event/barfussbar-mit-dj-kuno-august-2024/
LOCATION:Barfussbar\, Stadthausquai 12\, 8001 Zürich\, 8001\, Schweiz
CATEGORIES:Öffentlicher Anlass
ATTACH;FMTTYPE=image/jpeg:https://kuno.ch/wp-content/uploads/2023/04/Barfussbar-Zuerich.jpg
END:VEVENT
BEGIN:VEVENT
DTSTART;TZID=Europe/Zurich:20240623T200000
DTEND;TZID=Europe/Zurich:20240623T230000
DTSTAMP:20260421T133151
CREATED:20240303T134428Z
LAST-MODIFIED:20240702T153358Z
UID:574-1719172800-1719183600@kuno.ch
SUMMARY:Barfussbar\, Juni 2024
DESCRIPTION:Tanz am Sonntag in der Barfussbar mit DJ Kuno\nvon 20:00 – 23:00 (Barbetrieb bis 24:00) \nDisco & Dance\, Funky Grooves\, Electro-Swing\, R’n’B \nDer Event findet bei jedem Wetter statt – bei Regen mit Zelt.
URL:https://kuno.ch/event/barfussbar-mit-dj-kuno-juni-2024/
LOCATION:Barfussbar\, Stadthausquai 12\, 8001 Zürich\, 8001\, Schweiz
CATEGORIES:Öffentlicher Anlass
ATTACH;FMTTYPE=image/jpeg:https://kuno.ch/wp-content/uploads/2023/04/Barfussbar-Zuerich.jpg
END:VEVENT
BEGIN:VEVENT
DTSTART;TZID=Europe/Zurich:20240608T180000
DTEND;TZID=Europe/Zurich:20240609T020000
DTSTAMP:20260421T133151
CREATED:20240525T121006Z
LAST-MODIFIED:20251025T090128Z
UID:608-1717869600-1717898400@kuno.ch
SUMMARY:Privatparty im Piemont\, Italien
DESCRIPTION:Privatanlass: Hochzeitsfest in der Nähe von Acqui Terme und Prasco\, Piemont mit DJ Kuno.
URL:https://kuno.ch/event/privatparty-im-piemont/
LOCATION:Prasco\, Prasco\, Piemont\, Italien
CATEGORIES:Privater Anlass
ATTACH;FMTTYPE=image/jpeg:https://kuno.ch/wp-content/uploads/2024/05/Acqui-Terme.jpeg
END:VEVENT
BEGIN:VEVENT
DTSTART;TZID=Europe/Zurich:20240524T210000
DTEND;TZID=Europe/Zurich:20240525T013000
DTSTAMP:20260421T133151
CREATED:20240525T074935Z
LAST-MODIFIED:20251025T090142Z
UID:602-1716584400-1716600600@kuno.ch
SUMMARY:Privatparty in der Fischerstube
DESCRIPTION:Privatanlass: Geburtstagsfest in der Fischerhütte\, Restaurant Fischerstube Zürihorn\, mit DJ Kuno.
URL:https://kuno.ch/event/geburtstagsfest-in-der-fischerstube/
LOCATION:Fischerstube Zürihorn\, Bellerivestrasse 160\, Zürich\, Zürich\, 8008\, Schweiz
CATEGORIES:Privater Anlass
ATTACH;FMTTYPE=image/jpeg:https://kuno.ch/wp-content/uploads/2024/05/Fischerstube.jpg
END:VEVENT
END:VCALENDAR