BEGIN:VCALENDAR
VERSION:2.0
PRODID:-//DJ Kuno - ECPv6.1.3//NONSGML v1.0//EN
CALSCALE:GREGORIAN
METHOD:PUBLISH
X-WR-CALNAME:DJ Kuno
X-ORIGINAL-URL:https://kuno.ch
X-WR-CALDESC:Veranstaltungen für DJ Kuno
REFRESH-INTERVAL;VALUE=DURATION:PT1H
X-Robots-Tag:noindex
X-PUBLISHED-TTL:PT1H
BEGIN:VTIMEZONE
TZID:Europe/Zurich
BEGIN:DAYLIGHT
TZOFFSETFROM:+0100
TZOFFSETTO:+0200
TZNAME:CEST
DTSTART:20250330T010000
END:DAYLIGHT
BEGIN:STANDARD
TZOFFSETFROM:+0200
TZOFFSETTO:+0100
TZNAME:CET
DTSTART:20251026T010000
END:STANDARD
END:VTIMEZONE
BEGIN:VEVENT
DTSTART;TZID=Europe/Zurich:20250202T160000
DTEND;TZID=Europe/Zurich:20250202T190000
DTSTAMP:20260423T221424
CREATED:20241124T203030Z
LAST-MODIFIED:20251025T090017Z
UID:731-1738512000-1738522800@kuno.ch
SUMMARY:Tea Time Swing\, 02.02.2025
DESCRIPTION:Tea Time Swing in der Bananenreiferei Zürich für Lindy Hop\, Balboa und Shag mit \n\nDJ Phatt D von 16.00 – 17.30 Uhr\n\nund \n\nDJ Kuno von 17.30 –19.00 Uhr\n\nSound von Swing\, Jazz bis R&B
URL:https://kuno.ch/event/tea-time-swing-02-02-2025/
LOCATION:Bananenreiferei\, Pfingstweidstrasse 101\, Zürich\, Zürich\, 8005\, Schweiz
CATEGORIES:Öffentlicher Anlass
ATTACH;FMTTYPE=image/jpeg:https://kuno.ch/wp-content/uploads/2023/08/Teatimeswing-logo.jpeg
ORGANIZER;CN="Tea%20Time%20Swing":MAILTO:info@teatimeswing-zuerich.ch
END:VEVENT
BEGIN:VEVENT
DTSTART;TZID=Europe/Zurich:20250214T203000
DTEND;TZID=Europe/Zurich:20250215T003000
DTSTAMP:20260423T221424
CREATED:20250105T185840Z
LAST-MODIFIED:20251025T090650Z
UID:738-1739565000-1739579400@kuno.ch
SUMMARY:Viva la Via in Pontresina\, Februar 2025
DESCRIPTION:Im Rahmen der Nachtedition von «Viva la Via» in Pontresina lege ich auf in der O-Bar im eleganten Hotel Rosatsch\, Pontresina \nDJ Kuno\nzu Gast in der O-Bar im Hotel Rosatsch\, Pontresina\nDisco — R’n’B — Funky Grooves – Dance – Electro Swing \nViva la Via Nachtedition\nHotel Rosatsch\nVia Maistra 157\n7504 Pontresina
URL:https://kuno.ch/event/viva-la-via-im-hotel-rosatsch-februar-2025/
LOCATION:Hotel Rosatsch Pontresina\, Via Maistra 157\, 7504 Pontresina\, Graubünden\, 7504\, Schweiz
CATEGORIES:Öffentlicher Anlass
ATTACH;FMTTYPE=image/jpeg:https://kuno.ch/wp-content/uploads/2024/02/Viva-la-Via-Pontresina.jpg
END:VEVENT
END:VCALENDAR