BEGIN:VCALENDAR
VERSION:2.0
PRODID:-//DJ Kuno - ECPv6.1.3//NONSGML v1.0//EN
CALSCALE:GREGORIAN
METHOD:PUBLISH
X-WR-CALNAME:DJ Kuno
X-ORIGINAL-URL:https://kuno.ch
X-WR-CALDESC:Veranstaltungen für DJ Kuno
REFRESH-INTERVAL;VALUE=DURATION:PT1H
X-Robots-Tag:noindex
X-PUBLISHED-TTL:PT1H
BEGIN:VTIMEZONE
TZID:Europe/Zurich
BEGIN:DAYLIGHT
TZOFFSETFROM:+0100
TZOFFSETTO:+0200
TZNAME:CEST
DTSTART:20260329T010000
END:DAYLIGHT
BEGIN:STANDARD
TZOFFSETFROM:+0200
TZOFFSETTO:+0100
TZNAME:CET
DTSTART:20261025T010000
END:STANDARD
END:VTIMEZONE
BEGIN:VEVENT
DTSTART;TZID=Europe/Zurich:20260809T200000
DTEND;TZID=Europe/Zurich:20260809T230000
DTSTAMP:20260421T193834
CREATED:20260123T170933Z
LAST-MODIFIED:20260123T170933Z
UID:887-1786305600-1786316400@kuno.ch
SUMMARY:Barfussbar\, August 2026
DESCRIPTION:Tanz am Sonntag in der Barfussbar mit DJ Kuno\n09. August 2026 \nvon 20:00 – 23:00 (Barbetrieb bis 24:00) \nDisco & Dance\, Funky Grooves\, Electro-Swing\, R’n’B \nDer Event findet bei jedem Wetter statt – bei Regen mit Zelt.
URL:https://kuno.ch/event/barfussbar-august-2026/
LOCATION:Barfussbar\, Stadthausquai 12\, 8001 Zürich\, 8001\, Schweiz
CATEGORIES:Öffentlicher Anlass
ATTACH;FMTTYPE=image/jpeg:https://kuno.ch/wp-content/uploads/2024/07/Barfussbar-Zuerich-02.jpg
END:VEVENT
END:VCALENDAR