BEGIN:VCALENDAR
VERSION:2.0
PRODID:-//DJ Kuno - ECPv6.1.3//NONSGML v1.0//EN
CALSCALE:GREGORIAN
METHOD:PUBLISH
X-ORIGINAL-URL:https://kuno.ch
X-WR-CALDESC:Veranstaltungen für DJ Kuno
REFRESH-INTERVAL;VALUE=DURATION:PT1H
X-Robots-Tag:noindex
X-PUBLISHED-TTL:PT1H
BEGIN:VTIMEZONE
TZID:Europe/Zurich
BEGIN:DAYLIGHT
TZOFFSETFROM:+0100
TZOFFSETTO:+0200
TZNAME:CEST
DTSTART:20240331T010000
END:DAYLIGHT
BEGIN:STANDARD
TZOFFSETFROM:+0200
TZOFFSETTO:+0100
TZNAME:CET
DTSTART:20241027T010000
END:STANDARD
END:VTIMEZONE
BEGIN:VEVENT
DTSTART;TZID=Europe/Zurich:20240114T160000
DTEND;TZID=Europe/Zurich:20240114T190000
DTSTAMP:20260424T064012
CREATED:20240110T165348Z
LAST-MODIFIED:20241005T160712Z
UID:549-1705248000-1705258800@kuno.ch
SUMMARY:Tea Time Swing\, Januar 2024
DESCRIPTION:Lindy Hop und Balboa in der Bananenreiferei Zürich mit DJ Kuno und Live-Band «The Sheiks» von 16.00 – 19.00 Uhr. \nDJ Kuno eröffnet den Tanznachmittag\, dann folgt ein erstes Set von The Sheiks. Die Bandpause beschallt nochmal DJ Kuno mit Swing und R&B und anschliessend folgt das zweite Set der Band.
URL:https://kuno.ch/event/tea-time-swing-jan-2024/
LOCATION:Bananenreiferei\, Pfingstweidstrasse 101\, Zürich\, Zürich\, 8005\, Schweiz
CATEGORIES:Öffentlicher Anlass
ATTACH;FMTTYPE=image/jpeg:https://kuno.ch/wp-content/uploads/2023/08/Teatimeswing-logo.jpeg
ORGANIZER;CN="Tea%20Time%20Swing":MAILTO:info@teatimeswing-zuerich.ch
END:VEVENT
END:VCALENDAR