BEGIN:VCALENDAR
VERSION:2.0
PRODID:-//DJ Kuno - ECPv6.1.3//NONSGML v1.0//EN
CALSCALE:GREGORIAN
METHOD:PUBLISH
X-WR-CALNAME:DJ Kuno
X-ORIGINAL-URL:https://kuno.ch
X-WR-CALDESC:Veranstaltungen für DJ Kuno
REFRESH-INTERVAL;VALUE=DURATION:PT1H
X-Robots-Tag:noindex
X-PUBLISHED-TTL:PT1H
BEGIN:VTIMEZONE
TZID:Europe/Zurich
BEGIN:DAYLIGHT
TZOFFSETFROM:+0100
TZOFFSETTO:+0200
TZNAME:CEST
DTSTART:20230326T010000
END:DAYLIGHT
BEGIN:STANDARD
TZOFFSETFROM:+0200
TZOFFSETTO:+0100
TZNAME:CET
DTSTART:20231029T010000
END:STANDARD
END:VTIMEZONE
BEGIN:VEVENT
DTSTART;TZID=Europe/Zurich:20230309T210000
DTEND;TZID=Europe/Zurich:20230310T003000
DTSTAMP:20260424T184417
CREATED:20230309T200035Z
LAST-MODIFIED:20251025T090755Z
UID:557-1678395600-1678408200@kuno.ch
SUMMARY:Viva la Via Nachtedition März 2023
DESCRIPTION:Im Rahmen der Nachtedition von «Viva la Via» in Pontresina lege ich auf im wunderschönen Hotel Walther\, Pontresina \nDJ Kuno\nzu Gast im Hotel Walther\, Pontresina\nDisco — R’n’B — Funky Grooves – Dance – Electro Swing \nViva la Via Nachtedition \nHotel Walther \nVia Maistra 215\n7504 Pontresina
URL:https://kuno.ch/event/viva-la-via-nachtedition-maerz-2023/
LOCATION:Hotel Walther Pontresina\, Via Maistra 215\, Pontresina\, Graubünden\, 7504\, Schweiz
CATEGORIES:Öffentlicher Anlass
ATTACH;FMTTYPE=image/jpeg:https://kuno.ch/wp-content/uploads/2024/02/Viva-la-Via-Pontresina.jpg
END:VEVENT
END:VCALENDAR