BEGIN:VCALENDAR
VERSION:2.0
PRODID:-//DJ Kuno - ECPv6.1.3//NONSGML v1.0//EN
CALSCALE:GREGORIAN
METHOD:PUBLISH
X-ORIGINAL-URL:https://kuno.ch
X-WR-CALDESC:Veranstaltungen für DJ Kuno
REFRESH-INTERVAL;VALUE=DURATION:PT1H
X-Robots-Tag:noindex
X-PUBLISHED-TTL:PT1H
BEGIN:VTIMEZONE
TZID:Europe/Zurich
BEGIN:DAYLIGHT
TZOFFSETFROM:+0100
TZOFFSETTO:+0200
TZNAME:CEST
DTSTART:20240331T010000
END:DAYLIGHT
BEGIN:STANDARD
TZOFFSETFROM:+0200
TZOFFSETTO:+0100
TZNAME:CET
DTSTART:20241027T010000
END:STANDARD
END:VTIMEZONE
BEGIN:VEVENT
DTSTART;TZID=Europe/Zurich:20240406T193000
DTEND;TZID=Europe/Zurich:20240406T233000
DTSTAMP:20260423T141649
CREATED:20240303T133052Z
LAST-MODIFIED:20240303T134557Z
UID:566-1712431800-1712446200@kuno.ch
SUMMARY:Downtown Social\, April 2024
DESCRIPTION:Swingender Sound für Lindy Hop und Balboa mit DJ Kuno \nvon 19.30 – 21.30 (danach bis 23.30 ein zweiter DJ) \nDowntownswing\, Hohlstrasse 86a\, 8004 Zürich
URL:https://kuno.ch/event/downtown-social-april-2024/
LOCATION:Downtownswing\, Hohlstrasse 86a\, Zürich\, 8004\, Schweiz
CATEGORIES:Öffentlicher Anlass
ATTACH;FMTTYPE=image/jpeg:https://kuno.ch/wp-content/uploads/2024/03/Downtownsocial-ohneText.jpg
END:VEVENT
END:VCALENDAR