BEGIN:VCALENDAR
VERSION:2.0
PRODID:-//DJ Kuno - ECPv6.1.3//NONSGML v1.0//EN
CALSCALE:GREGORIAN
METHOD:PUBLISH
X-ORIGINAL-URL:https://kuno.ch
X-WR-CALDESC:Veranstaltungen für DJ Kuno
REFRESH-INTERVAL;VALUE=DURATION:PT1H
X-Robots-Tag:noindex
X-PUBLISHED-TTL:PT1H
BEGIN:VTIMEZONE
TZID:Europe/Zurich
BEGIN:DAYLIGHT
TZOFFSETFROM:+0100
TZOFFSETTO:+0200
TZNAME:CEST
DTSTART:20250330T010000
END:DAYLIGHT
BEGIN:STANDARD
TZOFFSETFROM:+0200
TZOFFSETTO:+0100
TZNAME:CET
DTSTART:20251026T010000
END:STANDARD
END:VTIMEZONE
BEGIN:VEVENT
DTSTART;TZID=Europe/Zurich:20250823T213000
DTEND;TZID=Europe/Zurich:20250824T010000
DTSTAMP:20260422T070843
CREATED:20250816T114817Z
LAST-MODIFIED:20251025T091212Z
UID:794-1755984600-1755997200@kuno.ch
SUMMARY:Privatparty Quartiertreff Hirslanden
DESCRIPTION:Privatanlass: Geburtstagsfest im Quartiertreff Hirslanden mit DJ Kuno.
URL:https://kuno.ch/event/privatparty-quartiertreff-hirslanden/
LOCATION:Quartiertreff Hirslanden\, Forchstrasse 248\, Zürich\, Zürich\, 8032\, Schweiz
CATEGORIES:Privater Anlass
ATTACH;FMTTYPE=image/jpeg:https://kuno.ch/wp-content/uploads/2025/08/Quartiertreff-Hirslanden-Burgwies.jpg
END:VEVENT
END:VCALENDAR