BEGIN:VCALENDAR
VERSION:2.0
PRODID:-//DJ Kuno - ECPv6.1.3//NONSGML v1.0//EN
CALSCALE:GREGORIAN
METHOD:PUBLISH
X-WR-CALNAME:DJ Kuno
X-ORIGINAL-URL:https://kuno.ch
X-WR-CALDESC:Veranstaltungen für DJ Kuno
REFRESH-INTERVAL;VALUE=DURATION:PT1H
X-Robots-Tag:noindex
X-PUBLISHED-TTL:PT1H
BEGIN:VTIMEZONE
TZID:Europe/Zurich
BEGIN:DAYLIGHT
TZOFFSETFROM:+0100
TZOFFSETTO:+0200
TZNAME:CEST
DTSTART:20250330T010000
END:DAYLIGHT
BEGIN:STANDARD
TZOFFSETFROM:+0200
TZOFFSETTO:+0100
TZNAME:CET
DTSTART:20251026T010000
END:STANDARD
END:VTIMEZONE
BEGIN:VEVENT
DTSTART;TZID=Europe/Zurich:20250628T210000
DTEND;TZID=Europe/Zurich:20250629T010000
DTSTAMP:20260422T134511
CREATED:20250628T190037Z
LAST-MODIFIED:20251025T091142Z
UID:785-1751144400-1751158800@kuno.ch
SUMMARY:Privatparty im Ruderclub Thalwil
DESCRIPTION:Privatanlass: Geburtstagsfest im Ruderclub Thalwil mit DJ Kuno.
URL:https://kuno.ch/event/privatparty-im-ruderclub-thalwil-2/
LOCATION:Ruderclub Thalwil\, Seestrasse 178\, Thalwil\, 8800\, Schweiz
CATEGORIES:Privater Anlass
ATTACH;FMTTYPE=image/jpeg:https://kuno.ch/wp-content/uploads/2025/06/D0161CE5-5AA5-4AEF-B36F-6021B9BADEA1-scaled.jpg
END:VEVENT
END:VCALENDAR