BEGIN:VCALENDAR
VERSION:2.0
PRODID:-//DJ Kuno - ECPv6.1.3//NONSGML v1.0//EN
CALSCALE:GREGORIAN
METHOD:PUBLISH
X-ORIGINAL-URL:https://kuno.ch
X-WR-CALDESC:Veranstaltungen für DJ Kuno
REFRESH-INTERVAL;VALUE=DURATION:PT1H
X-Robots-Tag:noindex
X-PUBLISHED-TTL:PT1H
BEGIN:VTIMEZONE
TZID:Europe/Zurich
BEGIN:DAYLIGHT
TZOFFSETFROM:+0100
TZOFFSETTO:+0200
TZNAME:CEST
DTSTART:20230326T010000
END:DAYLIGHT
BEGIN:STANDARD
TZOFFSETFROM:+0200
TZOFFSETTO:+0100
TZNAME:CET
DTSTART:20231029T010000
END:STANDARD
END:VTIMEZONE
BEGIN:VEVENT
DTSTART;TZID=Europe/Zurich:20230610T220000
DTEND;TZID=Europe/Zurich:20230611T030000
DTSTAMP:20260425T124136
CREATED:20240702T144832Z
LAST-MODIFIED:20251025T090405Z
UID:672-1686434400-1686452400@kuno.ch
SUMMARY:Privatparty im Smith and the Luma
DESCRIPTION:Privatanlass: Geburtstagsfest im Smith and the Luma mit DJ Kuno.
URL:https://kuno.ch/event/privatparty-im-smith-and-the-luma-2/
LOCATION:Smith and the Luma\, Grubenstrasse 27\, Zürich\, 8045\, Schweiz
CATEGORIES:Privater Anlass
ATTACH;FMTTYPE=image/jpeg:https://kuno.ch/wp-content/uploads/2024/07/Smith-and-the-Luma-aussen.jpg
END:VEVENT
END:VCALENDAR